BEGIN:VCALENDAR
VERSION:2.0
PRODID:-//wp-events-plugin.com//7.2.2.1//EN
TZID:Europe/Berlin
X-WR-TIMEZONE:Europe/Berlin
BEGIN:VEVENT
UID:1@padelite.de
DTSTART;TZID=Europe/Berlin:20251017T100000
DTEND;TZID=Europe/Berlin:20251019T220000
DTSTAMP:20251002T142632Z
URL:https://padelite.de/events/cupra-garage-dresden-championships/
SUMMARY:CUPRA Garage Dresden - Sächsische Padel Landesmeisterschaften - He
 rren / Damen / Mixed
DESCRIPTION:CUPRA Garage Dresden - Sächische Padel Landesmeisterschaften -
  Herren / Damen / Mixed\n\n📍 Ostra Beach | Sportpark Dresden |\n\nDu br
 ennst für Padel und willst dich mit den besten Spielerinnen und Spielern 
 aus Dresden und Umgebung messen?\n\nDann sind die CUPRA Garage Dresden La
 ndesmeisterschaften– unsere Sächischen Lamdesmeisterschaften – genau 
 das Richtige für dich!\n\nWerde Sachsens erster Meister im Padel und schr
 eib Geschichte.\n\n\n\n✅ Teilnahmebedingungen\n\n 	Falls keine aktive L
 izenz vorliegt\, wird von Space of Play für euch automatisch eine Wochenl
 izenz kostenfrei bereitgestellt. Eine DPV Lizenz ist notwendig.\n 	Anmeldu
 ng bevorzugt als Team\n 	Einzelanmeldung möglich – Partnerfindung über
  unsere WhatsApp-Community:\n 	👉 WhatsApp-Gruppe\n\n\n\n\n🏆 Spielm
 odus\n\n 	Gespielt wird im K.-o.-System mit Nebenrunde\n 	Jedes Team hat 
 mindestens 2 Matches garantiert\n 	Der Modus kann je nach Teamanzahl leich
 t angepasst werden\n\n\n\n\n⏰ Spielzeiten / Spielorte\n\n 	Freitag 17.1
 0.2025 – ab 16:00 Uhr\n 	Samstag\, 18.10.2025 – ab 10:00 Uhr\n 	Sonn
 tag\, 19.10.2025 – ab 10:00 Uhr\n 	Spielzeitwünsche können jederzeit 
 abgegeben werden und werden zumeist berücksichtigt\n 	Gespielt wird am Os
 tra Beach und Sportpark Südhöhe\n\n\n\n\n💸 Nenngeld\n\n 	35 € pro 
 Person (zahlbar bei Anmeldung)\n 	Jeder Teilnehmer bekommt freien Eintritt
  zur CUPRA Community Night am 30.10.2025\n 	Rückerstattung bei Absage 
 bis Anmeldeschluss: 100 %\n 	Nach Auslosung keine Rückerstattung mehr mö
 glich\n\n\n\n\n🎉 Highlight\n\nDie große Siegerehrung findet im feie
 rlichen Rahmen während der CUPRA Community Night am 30.10.2025 in der
  CUPRA Garage Dresden statt.\n\n\n\n❓ Noch Fragen?\n\nEinfach melden be
 i Yannick Schramm 01782186165
ATTACH;FMTTYPE=image/jpeg:https://padelite.de/wp-content/uploads/2025/08/2
 0250625_124714000_ostra.webp
CATEGORIES:Turnier
LOCATION:Ostrabeach\, Zur Messe 11\, Dresden\, Sachsen\, 01067 \, Deutschla
 nd
X-APPLE-STRUCTURED-LOCATION;VALUE=URI;X-ADDRESS=Zur Messe 11\, Dresden\, Sa
 chsen\, 01067 \, Deutschland;X-APPLE-RADIUS=100;X-TITLE=Ostrabeach:geo:0,0
END:VEVENT
BEGIN:VEVENT
UID:2@padelite.de
DTSTART;TZID=Europe/Berlin;VALUE=DATE:20251030
DTEND;TZID=Europe/Berlin;VALUE=DATE:20251031
DTSTAMP:20250925T094833Z
URL:https://padelite.de/events/cupra-community-night/
SUMMARY:CUPRA Community Night
DESCRIPTION:
ATTACH;FMTTYPE=image/jpeg:https://padelite.de/wp-content/uploads/2025/08/2
 0250625_124714000_ostra.webp
CATEGORIES:Party
END:VEVENT
BEGIN:VTIMEZONE
TZID:Europe/Berlin
X-LIC-LOCATION:Europe/Berlin
BEGIN:DAYLIGHT
DTSTART:20250330T030000
TZOFFSETFROM:+0100
TZOFFSETTO:+0200
TZNAME:CEST
END:DAYLIGHT
BEGIN:STANDARD
DTSTART:20251026T020000
TZOFFSETFROM:+0200
TZOFFSETTO:+0100
TZNAME:CET
END:STANDARD
END:VTIMEZONE
END:VCALENDAR